BEGIN:VCALENDAR
VERSION:2.0
PRODID:-//Volt Europa//Events//EN
CALSCALE:GREGORIAN
METHOD:PUBLISH
BEGIN:VEVENT
UID:meet-up-in-london-1712255400@voltuk.org
DTSTAMP:20260424T071241Z
DTSTART;TZID=Europe/London:20240404T193000
DTEND;TZID=Europe/London:20240404T220000
SUMMARY:Meet-up in London
DESCRIPTION:Meet Volt UK's candidates standing in the London Assembly elect
 ions\, and other Volt UK members in London for our Spring social!
LOCATION:Babel Beerhouse\, London\, N1C 4DL
URL:https://voltuk.org/events/meet-up-in-london
END:VEVENT
END:VCALENDAR
